Package: InPAS Version: 2.17.1 Command: /Library/Frameworks/R.framework/Resources/bin/R CMD build --keep-empty-dirs --no-resave-data InPAS StartedAt: 2025-10-24 17:30:54 -0400 (Fri, 24 Oct 2025) EndedAt: 2025-10-24 17:34:26 -0400 (Fri, 24 Oct 2025) EllapsedTime: 211.7 seconds RetCode: 0 Status: OK PackageFile: InPAS_2.17.1.tar.gz PackageFileSize: 1.435 MiB