Package: InPAS Version: 2.17.1 Command: rm -rf InPAS.buildbin-libdir && mkdir InPAS.buildbin-libdir && /Users/biocbuild/BBS/utils/build-universal.sh InPAS_2.17.1.tar.gz /Library/Frameworks/R.framework/Resources/bin/R InPAS.buildbin-libdir StartedAt: 2025-10-25 01:45:45 -0400 (Sat, 25 Oct 2025) EndedAt: 2025-10-25 01:46:54 -0400 (Sat, 25 Oct 2025) EllapsedTime: 68.9 seconds RetCode: 0 Status: OK PackageFile: InPAS_2.17.1.tgz PackageFileSize: 3.435 MiB