Package: InPAS Version: 2.17.1 Command: /Library/Frameworks/R.framework/Resources/bin/R CMD INSTALL InPAS StartedAt: 2025-10-26 15:23:37 -0400 (Sun, 26 Oct 2025) EndedAt: 2025-10-26 15:23:57 -0400 (Sun, 26 Oct 2025) EllapsedTime: 19.7 seconds RetCode: 0 Status: OK