Package: InPAS Version: 2.17.1 Command: rm -rf InPAS.buildbin-libdir && mkdir InPAS.buildbin-libdir && /Users/biocbuild/BBS/utils/build-universal.sh InPAS_2.17.1.tar.gz /Library/Frameworks/R.framework/Resources/bin/R InPAS.buildbin-libdir StartedAt: 2025-10-26 22:38:48 -0400 (Sun, 26 Oct 2025) EndedAt: 2025-10-26 22:39:08 -0400 (Sun, 26 Oct 2025) EllapsedTime: 20.4 seconds RetCode: 0 Status: OK PackageFile: InPAS_2.17.1.tgz PackageFileSize: 3.442 MiB