Package: IgGeneUsage Version: 1.23.0 Command: /home/biocbuild/bbs-3.22-bioc/R/bin/R CMD INSTALL IgGeneUsage StartedAt: 2025-10-27 15:26:31 -0400 (Mon, 27 Oct 2025) EndedAt: 2025-10-27 15:36:49 -0400 (Mon, 27 Oct 2025) EllapsedTime: 618.6 seconds RetCode: 0 Status: OK