Package: IgGeneUsage Version: 1.24.0 Command: /Library/Frameworks/R.framework/Resources/bin/R CMD INSTALL IgGeneUsage StartedAt: 2025-10-31 15:18:40 -0400 (Fri, 31 Oct 2025) EndedAt: 2025-10-31 15:21:11 -0400 (Fri, 31 Oct 2025) EllapsedTime: 150.8 seconds RetCode: 0 Status: OK