Package: IgGeneUsage Version: 1.24.0 Command: /Library/Frameworks/R.framework/Resources/bin/R CMD build --keep-empty-dirs --no-resave-data IgGeneUsage StartedAt: 2025-11-02 16:44:14 -0500 (Sun, 02 Nov 2025) EndedAt: 2025-11-02 16:48:56 -0500 (Sun, 02 Nov 2025) EllapsedTime: 282.1 seconds RetCode: 0 Status: OK PackageFile: IgGeneUsage_1.24.0.tar.gz PackageFileSize: 1.207 MiB