Package: IgGeneUsage Version: 1.24.0 Command: rm -rf IgGeneUsage.buildbin-libdir && mkdir IgGeneUsage.buildbin-libdir && /Users/biocbuild/BBS/utils/build-universal.sh IgGeneUsage_1.24.0.tar.gz /Library/Frameworks/R.framework/Resources/bin/R IgGeneUsage.buildbin-libdir StartedAt: 2025-10-31 23:10:36 -0400 (Fri, 31 Oct 2025) EndedAt: 2025-10-31 23:13:14 -0400 (Fri, 31 Oct 2025) EllapsedTime: 157.4 seconds RetCode: 0 Status: OK PackageFile: IgGeneUsage_1.24.0.tgz PackageFileSize: 2.978 MiB