Package: Icens Version: 1.81.0 Command: /home/biocbuild/bbs-3.22-bioc/R/bin/R CMD INSTALL Icens StartedAt: 2025-10-24 15:22:11 -0400 (Fri, 24 Oct 2025) EndedAt: 2025-10-24 15:22:20 -0400 (Fri, 24 Oct 2025) EllapsedTime: 8.5 seconds RetCode: 0 Status: OK