Package: Icens Version: 1.81.0 Command: /home/biocbuild/bbs-3.22-bioc/R/bin/R CMD build --keep-empty-dirs --no-resave-data --md5 Icens StartedAt: 2025-10-24 18:20:10 -0400 (Fri, 24 Oct 2025) EndedAt: 2025-10-24 18:20:11 -0400 (Fri, 24 Oct 2025) EllapsedTime: 1.0 seconds RetCode: 0 Status: OK PackageFile: Icens_1.81.0.tar.gz PackageFileSize: 21.93 KiB