Package: Ibex Version: 0.99.34 Command: /home/biocbuild/bbs-3.22-bioc/R/bin/R CMD INSTALL Ibex StartedAt: 2025-10-24 15:35:07 -0400 (Fri, 24 Oct 2025) EndedAt: 2025-10-24 15:35:39 -0400 (Fri, 24 Oct 2025) EllapsedTime: 32.1 seconds RetCode: 0 Status: OK