Package: IVAS Version: 2.29.1 Command: /home/biocbuild/bbs-3.22-bioc/R/bin/R CMD INSTALL IVAS StartedAt: 2025-10-24 15:55:30 -0400 (Fri, 24 Oct 2025) EndedAt: 2025-10-24 15:56:11 -0400 (Fri, 24 Oct 2025) EllapsedTime: 40.6 seconds RetCode: 0 Status: OK