Package: IVAS Version: 2.29.1 Command: /home/biocbuild/bbs-3.22-bioc/R/bin/R CMD build --keep-empty-dirs --no-resave-data --md5 IVAS StartedAt: 2025-10-24 18:28:53 -0400 (Fri, 24 Oct 2025) EndedAt: 2025-10-24 18:29:57 -0400 (Fri, 24 Oct 2025) EllapsedTime: 64.0 seconds RetCode: 0 Status: OK PackageFile: IVAS_2.29.1.tar.gz PackageFileSize: 257.3 KiB