Package: ITALICS Version: 2.69.0 Command: /home/biocbuild/bbs-3.22-bioc/R/bin/R CMD INSTALL ITALICS StartedAt: 2025-10-24 16:09:22 -0400 (Fri, 24 Oct 2025) EndedAt: 2025-10-24 16:09:47 -0400 (Fri, 24 Oct 2025) EllapsedTime: 25.1 seconds RetCode: 0 Status: OK