Package: ITALICS Version: 2.69.0 Command: /Library/Frameworks/R.framework/Resources/bin/R CMD INSTALL ITALICS StartedAt: 2025-10-24 15:34:03 -0400 (Fri, 24 Oct 2025) EndedAt: 2025-10-24 15:34:13 -0400 (Fri, 24 Oct 2025) EllapsedTime: 10.5 seconds RetCode: 0 Status: OK