Package: ITALICS Version: 2.69.0 Command: /Library/Frameworks/R.framework/Resources/bin/R CMD build --keep-empty-dirs --no-resave-data ITALICS StartedAt: 2025-10-24 16:50:56 -0400 (Fri, 24 Oct 2025) EndedAt: 2025-10-24 16:51:21 -0400 (Fri, 24 Oct 2025) EllapsedTime: 25.3 seconds RetCode: 0 Status: OK PackageFile: ITALICS_2.69.0.tar.gz PackageFileSize: 615.6 KiB