Package: ITALICS Version: 2.70.0 Maintainer: Guillem Rigaill MaintainerEmail: italics at curie.fr git_url: https://git.bioconductor.org/packages/ITALICS git_branch: RELEASE_3_22 git_last_commit: 4a9bedd git_last_commit_date: 2025-10-29 10:01:06 -0400 (Wed, 29 Oct 2025)