Package: ISoLDE Version: 1.38.0 Command: /home/biocbuild/bbs-3.22-bioc/R/bin/R CMD INSTALL ISoLDE StartedAt: 2025-11-16 15:03:11 -0500 (Sun, 16 Nov 2025) EndedAt: 2025-11-16 15:03:19 -0500 (Sun, 16 Nov 2025) EllapsedTime: 7.8 seconds RetCode: 0 Status: OK