Package: ISLET Version: 1.11.0 Command: /home/biocbuild/bbs-3.22-bioc/R/bin/R CMD INSTALL ISLET StartedAt: 2025-10-24 15:29:17 -0400 (Fri, 24 Oct 2025) EndedAt: 2025-10-24 15:29:42 -0400 (Fri, 24 Oct 2025) EllapsedTime: 24.7 seconds RetCode: 0 Status: OK