Package: ISLET Version: 1.11.0 Command: /home/biocbuild/bbs-3.22-bioc/R/bin/R CMD build --keep-empty-dirs --no-resave-data --md5 ISLET StartedAt: 2025-10-24 18:28:11 -0400 (Fri, 24 Oct 2025) EndedAt: 2025-10-24 18:31:41 -0400 (Fri, 24 Oct 2025) EllapsedTime: 209.2 seconds RetCode: 0 Status: OK PackageFile: ISLET_1.11.0.tar.gz PackageFileSize: 2.186 MiB