Package: ISAnalytics Version: 1.19.3 Command: /home/biocbuild/bbs-3.22-bioc/R/bin/R CMD check --install=check:ISAnalytics.install-out.txt --library=/home/biocbuild/bbs-3.22-bioc/R/site-library --timings ISAnalytics_1.19.3.tar.gz StartedAt: 2025-10-25 00:49:06 -0400 (Sat, 25 Oct 2025) EndedAt: 2025-10-25 00:58:59 -0400 (Sat, 25 Oct 2025) EllapsedTime: 592.6 seconds RetCode: 0 Status: OK CheckDir: ISAnalytics.Rcheck Warnings: 0