Package: ISAnalytics Version: 1.19.3 Command: /Library/Frameworks/R.framework/Resources/bin/R CMD INSTALL ISAnalytics StartedAt: 2025-10-27 15:09:20 -0400 (Mon, 27 Oct 2025) EndedAt: 2025-10-27 15:09:52 -0400 (Mon, 27 Oct 2025) EllapsedTime: 32.4 seconds RetCode: 0 Status: OK