Package: ISAnalytics Version: 1.19.3 Command: /Library/Frameworks/R.framework/Resources/bin/R CMD build --keep-empty-dirs --no-resave-data ISAnalytics StartedAt: 2025-10-24 17:32:22 -0400 (Fri, 24 Oct 2025) EndedAt: 2025-10-24 17:35:58 -0400 (Fri, 24 Oct 2025) EllapsedTime: 216.0 seconds RetCode: 0 Status: OK PackageFile: ISAnalytics_1.19.3.tar.gz PackageFileSize: 8.826 MiB