Package: ISAnalytics Version: 1.19.3 Command: rm -rf ISAnalytics.buildbin-libdir && mkdir ISAnalytics.buildbin-libdir && /Users/biocbuild/BBS/utils/build-universal.sh ISAnalytics_1.19.3.tar.gz /Library/Frameworks/R.framework/Resources/bin/R ISAnalytics.buildbin-libdir StartedAt: 2025-10-25 01:45:54 -0400 (Sat, 25 Oct 2025) EndedAt: 2025-10-25 01:46:34 -0400 (Sat, 25 Oct 2025) EllapsedTime: 39.9 seconds RetCode: 0 Status: OK PackageFile: ISAnalytics_1.19.3.tgz PackageFileSize: 9.668 MiB