Package: ISAnalytics Version: 1.19.3 Command: /Library/Frameworks/R.framework/Resources/bin/R CMD INSTALL ISAnalytics StartedAt: 2025-10-26 15:05:14 -0400 (Sun, 26 Oct 2025) EndedAt: 2025-10-26 15:05:23 -0400 (Sun, 26 Oct 2025) EllapsedTime: 9.2 seconds RetCode: 0 Status: OK