Package: ISAnalytics Version: 1.19.3 Command: /Library/Frameworks/R.framework/Resources/bin/R CMD build --keep-empty-dirs --no-resave-data ISAnalytics StartedAt: 2025-10-27 16:47:40 -0400 (Mon, 27 Oct 2025) EndedAt: 2025-10-27 16:48:47 -0400 (Mon, 27 Oct 2025) EllapsedTime: 67.8 seconds RetCode: 0 Status: OK PackageFile: ISAnalytics_1.19.3.tar.gz PackageFileSize: 8.828 MiB