Package: ISAnalytics Version: 1.19.3 Command: rm -rf ISAnalytics.buildbin-libdir && mkdir ISAnalytics.buildbin-libdir && /Users/biocbuild/BBS/utils/build-universal.sh ISAnalytics_1.19.3.tar.gz /Library/Frameworks/R.framework/Resources/bin/R ISAnalytics.buildbin-libdir StartedAt: 2025-10-26 22:39:02 -0400 (Sun, 26 Oct 2025) EndedAt: 2025-10-26 22:39:12 -0400 (Sun, 26 Oct 2025) EllapsedTime: 10.2 seconds RetCode: 0 Status: OK PackageFile: ISAnalytics_1.19.3.tgz PackageFileSize: 9.662 MiB