Package: IRanges Version: 2.43.8 Command: /home/biocbuild/bbs-3.22-bioc/R/bin/R CMD INSTALL IRanges StartedAt: 2025-10-27 15:15:32 -0400 (Mon, 27 Oct 2025) EndedAt: 2025-10-27 15:16:28 -0400 (Mon, 27 Oct 2025) EllapsedTime: 56.6 seconds RetCode: 0 Status: OK