Package: IRanges Version: 2.43.8 Command: /home/biocbuild/bbs-3.22-bioc/R/bin/R CMD build --keep-empty-dirs --no-resave-data --md5 IRanges StartedAt: 2025-10-27 18:16:51 -0400 (Mon, 27 Oct 2025) EndedAt: 2025-10-27 18:18:04 -0400 (Mon, 27 Oct 2025) EllapsedTime: 72.1 seconds RetCode: 0 Status: OK PackageFile: IRanges_2.43.8.tar.gz PackageFileSize: 484.7 KiB