Package: IPO Version: 1.36.0 Command: /home/biocbuild/bbs-3.22-bioc/R/bin/R CMD INSTALL IPO StartedAt: 2025-11-25 16:09:49 -0500 (Tue, 25 Nov 2025) EndedAt: 2025-11-25 16:10:36 -0500 (Tue, 25 Nov 2025) EllapsedTime: 47.3 seconds RetCode: 0 Status: OK