Package: IONiseR Version: 2.33.0 Command: /home/biocbuild/bbs-3.22-bioc/R/bin/R CMD INSTALL IONiseR StartedAt: 2025-10-24 16:02:23 -0400 (Fri, 24 Oct 2025) EndedAt: 2025-10-24 16:02:56 -0400 (Fri, 24 Oct 2025) EllapsedTime: 33.7 seconds RetCode: 0 Status: OK