Package: INTACT Version: 1.9.0 Command: /home/biocbuild/bbs-3.22-bioc/R/bin/R CMD INSTALL INTACT StartedAt: 2025-10-24 15:19:12 -0400 (Fri, 24 Oct 2025) EndedAt: 2025-10-24 15:19:17 -0400 (Fri, 24 Oct 2025) EllapsedTime: 4.8 seconds RetCode: 0 Status: OK