Package: INTACT Version: 1.10.0 Command: /Library/Frameworks/R.framework/Resources/bin/R CMD INSTALL INTACT StartedAt: 2025-11-03 15:04:53 -0500 (Mon, 03 Nov 2025) EndedAt: 2025-11-03 15:04:56 -0500 (Mon, 03 Nov 2025) EllapsedTime: 2.8 seconds RetCode: 0 Status: OK