Package: INTACT Version: 1.10.0 Command: /Library/Frameworks/R.framework/Resources/bin/R CMD build --keep-empty-dirs --no-resave-data INTACT StartedAt: 2025-11-02 16:46:28 -0500 (Sun, 02 Nov 2025) EndedAt: 2025-11-02 16:46:33 -0500 (Sun, 02 Nov 2025) EllapsedTime: 5.0 seconds RetCode: 0 Status: OK PackageFile: INTACT_1.10.0.tar.gz PackageFileSize: 2.487 MiB