Package: INTACT Version: 1.10.0 Command: rm -rf INTACT.buildbin-libdir && mkdir INTACT.buildbin-libdir && /Users/biocbuild/BBS/utils/build-universal.sh INTACT_1.10.0.tar.gz /Library/Frameworks/R.framework/Resources/bin/R INTACT.buildbin-libdir StartedAt: 2025-11-03 23:08:44 -0500 (Mon, 03 Nov 2025) EndedAt: 2025-11-03 23:08:47 -0500 (Mon, 03 Nov 2025) EllapsedTime: 3.1 seconds RetCode: 0 Status: OK PackageFile: INTACT_1.10.0.tgz PackageFileSize: 2.562 MiB