Package: INSPEcT Version: 1.40.0 Command: /Library/Frameworks/R.framework/Resources/bin/R CMD INSTALL INSPEcT StartedAt: 2025-10-31 15:27:19 -0400 (Fri, 31 Oct 2025) EndedAt: 2025-10-31 15:27:44 -0400 (Fri, 31 Oct 2025) EllapsedTime: 24.2 seconds RetCode: 0 Status: OK