Package: INPower Version: 1.45.0 Command: /home/biocbuild/bbs-3.22-bioc/R/bin/R CMD INSTALL INPower StartedAt: 2025-10-24 15:13:47 -0400 (Fri, 24 Oct 2025) EndedAt: 2025-10-24 15:14:01 -0400 (Fri, 24 Oct 2025) EllapsedTime: 14.1 seconds RetCode: 0 Status: OK