Package: INPower Version: 1.46.0 Command: /Library/Frameworks/R.framework/Resources/bin/R CMD INSTALL INPower StartedAt: 2025-11-06 15:02:06 -0500 (Thu, 06 Nov 2025) EndedAt: 2025-11-06 15:02:07 -0500 (Thu, 06 Nov 2025) EllapsedTime: 1.9 seconds RetCode: 0 Status: OK