Package: IMPCdata Version: 1.45.0 Command: /home/biocbuild/bbs-3.22-bioc/R/bin/R CMD build --keep-empty-dirs --no-resave-data --md5 IMPCdata StartedAt: 2025-10-24 18:23:26 -0400 (Fri, 24 Oct 2025) EndedAt: 2025-10-24 18:24:22 -0400 (Fri, 24 Oct 2025) EllapsedTime: 56.1 seconds RetCode: 0 Status: OK PackageFile: IMPCdata_1.45.0.tar.gz PackageFileSize: 108.2 KiB