Package: IMPCdata Version: 1.46.0 Command: rm -rf IMPCdata.buildbin-libdir && mkdir IMPCdata.buildbin-libdir && /Users/biocbuild/BBS/utils/build-universal.sh IMPCdata_1.46.0.tar.gz /Library/Frameworks/R.framework/Resources/bin/R IMPCdata.buildbin-libdir StartedAt: 2025-11-10 23:23:49 -0500 (Mon, 10 Nov 2025) EndedAt: 2025-11-10 23:23:51 -0500 (Mon, 10 Nov 2025) EllapsedTime: 2.0 seconds RetCode: 0 Status: OK PackageFile: IMPCdata_1.46.0.tgz PackageFileSize: 159.2 KiB