Package: IMMAN Version: 1.29.0 Command: /home/biocbuild/bbs-3.22-bioc/R/bin/R CMD INSTALL IMMAN StartedAt: 2025-10-24 16:02:03 -0400 (Fri, 24 Oct 2025) EndedAt: 2025-10-24 16:02:16 -0400 (Fri, 24 Oct 2025) EllapsedTime: 12.6 seconds RetCode: 0 Status: OK