Package: IMMAN Version: 1.29.0 Command: /home/biocbuild/bbs-3.22-bioc/R/bin/R CMD build --keep-empty-dirs --no-resave-data --md5 IMMAN StartedAt: 2025-10-24 18:22:06 -0400 (Fri, 24 Oct 2025) EndedAt: 2025-10-24 18:24:54 -0400 (Fri, 24 Oct 2025) EllapsedTime: 168.2 seconds RetCode: 0 Status: OK PackageFile: IMMAN_1.29.0.tar.gz PackageFileSize: 45.41 KiB