Package: IMAS Version: 1.33.1 Command: /home/biocbuild/bbs-3.22-bioc/R/bin/R CMD INSTALL IMAS StartedAt: 2025-10-24 15:56:11 -0400 (Fri, 24 Oct 2025) EndedAt: 2025-10-24 15:56:51 -0400 (Fri, 24 Oct 2025) EllapsedTime: 39.8 seconds RetCode: 0 Status: OK