Package: IMAS Version: 1.34.0 Command: /Library/Frameworks/R.framework/Resources/bin/R CMD INSTALL IMAS StartedAt: 2025-11-02 15:23:48 -0500 (Sun, 02 Nov 2025) EndedAt: 2025-11-02 15:24:06 -0500 (Sun, 02 Nov 2025) EllapsedTime: 17.7 seconds RetCode: 0 Status: OK