Package: IMAS Version: 1.34.0 Command: /Library/Frameworks/R.framework/Resources/bin/R CMD build --keep-empty-dirs --no-resave-data IMAS StartedAt: 2025-10-31 16:48:36 -0400 (Fri, 31 Oct 2025) EndedAt: 2025-10-31 16:49:19 -0400 (Fri, 31 Oct 2025) EllapsedTime: 42.4 seconds RetCode: 1 Status: ERROR PackageFile: None PackageFileSize: NA