Package: ILoReg Version: 1.20.0 Command: /home/biocbuild/bbs-3.22-bioc/R/bin/R CMD INSTALL ILoReg StartedAt: 2025-11-06 15:21:40 -0500 (Thu, 06 Nov 2025) EndedAt: 2025-11-06 15:22:11 -0500 (Thu, 06 Nov 2025) EllapsedTime: 31.9 seconds RetCode: 0 Status: OK