Package: ILoReg Version: 1.20.0 Command: /home/biocbuild/bbs-3.22-bioc/R/bin/R CMD build --keep-empty-dirs --no-resave-data --md5 ILoReg StartedAt: 2025-11-06 18:12:15 -0500 (Thu, 06 Nov 2025) EndedAt: 2025-11-06 18:14:43 -0500 (Thu, 06 Nov 2025) EllapsedTime: 148.2 seconds RetCode: 0 Status: OK PackageFile: ILoReg_1.20.0.tar.gz PackageFileSize: 2.667 MiB