Package: IHW Version: 1.38.0 Command: /Library/Frameworks/R.framework/Resources/bin/R CMD build --keep-empty-dirs --no-resave-data IHW StartedAt: 2025-11-10 16:45:08 -0500 (Mon, 10 Nov 2025) EndedAt: 2025-11-10 16:46:08 -0500 (Mon, 10 Nov 2025) EllapsedTime: 59.7 seconds RetCode: 0 Status: OK PackageFile: IHW_1.38.0.tar.gz PackageFileSize: 4.781 MiB