Package: IHW Version: 1.38.0 Command: rm -rf IHW.buildbin-libdir && mkdir IHW.buildbin-libdir && /Users/biocbuild/BBS/utils/build-universal.sh IHW_1.38.0.tar.gz /Library/Frameworks/R.framework/Resources/bin/R IHW.buildbin-libdir StartedAt: 2025-11-10 23:23:40 -0500 (Mon, 10 Nov 2025) EndedAt: 2025-11-10 23:23:43 -0500 (Mon, 10 Nov 2025) EllapsedTime: 3.1 seconds RetCode: 0 Status: OK PackageFile: IHW_1.38.0.tgz PackageFileSize: 4.977 MiB