Package: IFAA Version: 1.12.0 Command: /home/biocbuild/bbs-3.22-bioc/R/bin/R CMD INSTALL IFAA StartedAt: 2025-11-06 15:33:57 -0500 (Thu, 06 Nov 2025) EndedAt: 2025-11-06 15:34:24 -0500 (Thu, 06 Nov 2025) EllapsedTime: 26.7 seconds RetCode: 0 Status: OK